{
 "version": 1.0,
 "tileBundlesPath": "./tile",
 "storageInfo": {
  "packetSize": 128,
  "storageFormat": "esriMapCacheStorageModeCompactV2"
 },
 "tileImageInfo": {
  "format": "MIXED",
  "compressionQuality": 75,
  "bandCount": 1,
  "lercError": 0
 },
 "tileInfo": {
  "spatialReference": {
   "wkid": 2600,
   "latestWkid": 3346
  },
  "origin": {
   "x": -255482,
   "y": 6609872.576
  },
  "rows": 512,
  "cols": 512,
  "dpi": 96,
  "lods": [
   {
    "level": 0,
    "resolution": 2167.47100160867,
    "scale": 8192000
   },
   {
    "level": 1,
    "resolution": 1083.735500804335,
    "scale": 4096000
   },
   {
    "level": 2,
    "resolution": 541.8677504021675,
    "scale": 2048000
   },
   {
    "level": 3,
    "resolution": 270.93387520108377,
    "scale": 1024000
   },
   {
    "level": 4,
    "resolution": 135.46693760054188,
    "scale": 512000
   },
   {
    "level": 5,
    "resolution": 67.73346880027094,
    "scale": 256000
   },
   {
    "level": 6,
    "resolution": 33.86673440013547,
    "scale": 128000
   },
   {
    "level": 7,
    "resolution": 16.933367200067735,
    "scale": 64000
   },
   {
    "level": 8,
    "resolution": 8.466683600033868,
    "scale": 32000
   },
   {
    "level": 9,
    "resolution": 4.233341800016934,
    "scale": 16000
   },
   {
    "level": 10,
    "resolution": 2.116670900008467,
    "scale": 8000
   },
   {
    "level": 11,
    "resolution": 1.0583354500042335,
    "scale": 4000
   },
   {
    "level": 12,
    "resolution": 0.5291677250021167,
    "scale": 2000
   },
   {
    "level": 13,
    "resolution": 0.26458386250105836,
    "scale": 1000
   },
   {
    "level": 14,
    "resolution": 0.13229193125052918,
    "scale": 500
   },
   {
    "level": 15,
    "resolution": 0.06614596562526459,
    "scale": 250
   },
   {
    "level": 16,
    "resolution": 0.033072982812632296,
    "scale": 125
   },
   {
    "level": 17,
    "resolution": 0.016536491406316148,
    "scale": 62.5
   }
  ],
  "format": "MIXED",
  "compressionQuality": 75,
  "bandCount": 1,
  "lercError": 0,
  "storageFormat": "esriMapCacheStorageModeCompactV2",
  "packetSize": 128
 },
 "name": "Lazdiju_r_zemes_naudojimo_ir_apsaugos_regl_brez",
 "serviceDescription": "",
 "spatialReference": {
  "wkid": 2600,
  "latestWkid": 3346,
  "xyTolerance": 0.001,
  "zTolerance": 0.001,
  "mTolerance": 0.001,
  "falseX": -5122000,
  "falseY": -10000100,
  "xyUnits": 10000,
  "falseZ": -100000,
  "zUnits": 10000,
  "falseM": -100000,
  "mUnits": 10000
 },
 "units": "esriMeters",
 "minLOD": 0,
 "maxLOD": 10,
 "resampling": true,
 "layers": [
  {
   "id": 0,
   "name": "DBO.LazdijuR_zemes_naudojimo_ir_apsaugos_regl_brez",
   "parentLayerId": -1,
   "defaultVisibility": true,
   "subLayerIds": [
    1,
    2,
    3
   ],
   "minScale": 0,
   "maxScale": 0,
   "type": "Mosaic Layer",
   "supportsDynamicLegends": false,
   "layerId": 0,
   "layerName": "DBO.LazdijuR_zemes_naudojimo_ir_apsaugos_regl_brez",
   "serviceItemId": "5aaecae95c054342979ba3cf420a63b0"
  },
  {
   "id": 1,
   "name": "Boundary",
   "parentLayerId": 0,
   "defaultVisibility": false,
   "subLayerIds": null,
   "minScale": 0,
   "maxScale": 0,
   "type": "Feature Layer",
   "geometryType": "esriGeometryPolygon",
   "supportsDynamicLegends": true,
   "legend": [
    {
     "label": "",
     "imageData": "iVBORw0KGgoAAAANSUhEUgAAABQAAAAUCAYAAACNiR0NAAAACXBIWXMAAA7EAAAOxAGVKw4bAAAAO0lEQVQ4je3VIQ4AMAxCUZZw/yuzrK4a3HhpKr+oKQUIQXzrzPgEaIJJbNBGP7E16GOgsTT4zQ0VfAMXpesGTbdHvcEAAAAASUVORK5CYII=",
     "contentType": "image/png",
     "groupId": "0",
     "height": 20,
     "width": 20,
     "layerId": 1,
     "layerName": "Boundary"
    }
   ],
   "layerId": 1,
   "layerName": "Boundary",
   "serviceItemId": "5aaecae95c054342979ba3cf420a63b0"
  },
  {
   "id": 2,
   "name": "Footprint",
   "parentLayerId": 0,
   "defaultVisibility": true,
   "subLayerIds": null,
   "minScale": 0,
   "maxScale": 0,
   "type": "Feature Layer",
   "geometryType": "esriGeometryPolygon",
   "supportsDynamicLegends": true,
   "legend": [
    {
     "label": "",
     "imageData": "iVBORw0KGgoAAAANSUhEUgAAABQAAAAUCAYAAACNiR0NAAAACXBIWXMAAA7EAAAOxAGVKw4bAAAAP0lEQVQ4jWN5xsDwn4GKgAVESDEwMFLDsGcMDP/BBlITsIwaSDFgodwIVDBqIOWAhQpmoIBRA0dMGD6jYjUAAAdsBht2uyCeAAAAAElFTkSuQmCC",
     "contentType": "image/png",
     "groupId": "0",
     "height": 20,
     "width": 20,
     "layerId": 2,
     "layerName": "Footprint"
    }
   ],
   "layerId": 2,
   "layerName": "Footprint",
   "serviceItemId": "5aaecae95c054342979ba3cf420a63b0"
  },
  {
   "id": 3,
   "name": "Image",
   "parentLayerId": 0,
   "defaultVisibility": true,
   "subLayerIds": null,
   "minScale": 0,
   "maxScale": 0,
   "type": "Raster Layer",
   "supportsDynamicLegends": true,
   "legend": [
    {
     "label": "Red: Band_1",
     "imageData": "iVBORw0KGgoAAAANSUhEUgAAABQAAAAUCAYAAACNiR0NAAAACXBIWXMAAA7EAAAOxAGVKw4bAAAAOklEQVQ4jWNhoDJgoZmB/8GIfMAIRrR0IbUAC9VMgoJRAykHLFQwAwWMGkg5YBnBBjJCyzOqGUgtAABgfwJTnasaYgAAAABJRU5ErkJggg==",
     "contentType": "image/png",
     "groupId": "0",
     "height": 20,
     "width": 20,
     "layerId": 3,
     "layerName": "Image"
    },
    {
     "label": "Green: Band_2",
     "imageData": "iVBORw0KGgoAAAANSUhEUgAAABQAAAAUCAYAAACNiR0NAAAACXBIWXMAAA7EAAAOxAGVKw4bAAAAPElEQVQ4je3UoQ0AMBBCUS5h/5WvpkmDhjr+AE8gIMLxH7hYSxqMgqFY0I4+oRX0Y8CQCvq9De+f5cBQB19+AlPZl25RAAAAAElFTkSuQmCC",
     "contentType": "image/png",
     "groupId": "0",
     "height": 20,
     "width": 20,
     "layerId": 3,
     "layerName": "Image"
    },
    {
     "label": "Blue: Band_3",
     "imageData": "iVBORw0KGgoAAAANSUhEUgAAABQAAAAUCAYAAACNiR0NAAAACXBIWXMAAA7EAAAOxAGVKw4bAAAAPElEQVQ4jWNhoDJgoaGB//9TZhQjI5qB1AEsowZSDFgoNwIVjBpIOWChghkoYNRAygFSGELKMyoaSB0AAF59AlO8NYpcAAAAAElFTkSuQmCC",
     "contentType": "image/png",
     "groupId": "0",
     "height": 20,
     "width": 20,
     "layerId": 3,
     "layerName": "Image"
    }
   ],
   "layerId": 3,
   "layerName": "Image",
   "serviceItemId": "5aaecae95c054342979ba3cf420a63b0"
  }
 ],
 "initialExtent": {
  "xmin": 454152.7246000003,
  "ymin": 5965914.949999999,
  "xmax": 499912.63599999994,
  "ymax": 6033282.681,
  "spatialReference": {
   "wkid": 2600,
   "latestWkid": 3346
  }
 },
 "fullExtent": {
  "xmin": 454152.7246000003,
  "ymin": 5965914.949999999,
  "xmax": 499912.63599999994,
  "ymax": 6033282.681,
  "spatialReference": {
   "wkid": 2600,
   "latestWkid": 3346
  }
 },
 "minScale": 8192000.0,
 "maxScale": 8000.0,
 "exportTilesAllowed": false,
 "maxExportTilesCount": 0,
 "currentVersion": 10.91,
 "mapName": "Lazdiju_r_zemes_naudojimo_ir_apsaugos_regl_brez",
 "singleFusedMapCache": true,
 "type": "MapServer",
 "supportedExtensions": "",
 "capabilities": "TilesOnly,Tilemap",
 "serviceItemId": "5aaecae95c054342979ba3cf420a63b0"
}
