View In:
ArcGIS JavaScript
ArcGIS Online Map Viewer
ArcGIS Earth
ArcMap
ArcGIS Pro
View Footprint In:
ArcGIS Online Map Viewer
Service Description:
Map Name: BP_4_B
Legend
All Layers and Tables
Layers:
Description:
Service Item Id: 4dfba370a5f943de94ee996a5e55a77b
Copyright Text:
Spatial Reference:
2600
(3346)
Single Fused Map Cache: true
Tile Info:
- Height: 256
- Width: 256
- DPI: 96
-
Levels of Detail: 19
-
Level ID: 0
[ Start Tile, End Tile ]
- Resolution: 78124.7213756421
- Scale: 2.952745374827418E8
-
Level ID: 1
[ Start Tile, End Tile ]
- Resolution: 39062.36068782105
- Scale: 1.476372687413709E8
-
Level ID: 2
[ Start Tile, End Tile ]
- Resolution: 19531.180343910524
- Scale: 7.381863437068544E7
-
Level ID: 3
[ Start Tile, End Tile ]
- Resolution: 9765.590171955262
- Scale: 3.690931718534272E7
-
Level ID: 4
[ Start Tile, End Tile ]
- Resolution: 4882.795085977631
- Scale: 1.845465859267136E7
-
Level ID: 5
[ Start Tile, End Tile ]
- Resolution: 2441.3975429888155
- Scale: 9227329.29633568
-
Level ID: 6
[ Start Tile, End Tile ]
- Resolution: 1220.6987714944078
- Scale: 4613664.64816784
-
Level ID: 7
[ Start Tile, End Tile ]
- Resolution: 610.3493857472039
- Scale: 2306832.32408392
-
Level ID: 8
[ Start Tile, End Tile ]
- Resolution: 305.17469287360194
- Scale: 1153416.16204196
-
Level ID: 9
[ Start Tile, End Tile ]
- Resolution: 152.58734643680097
- Scale: 576708.08102098
-
Level ID: 10
[ Start Tile, End Tile ]
- Resolution: 76.29367321840049
- Scale: 288354.04051049
-
Level ID: 11
[ Start Tile, End Tile ]
- Resolution: 38.14683660920024
- Scale: 144177.020255245
-
Level ID: 12
[ Start Tile, End Tile ]
- Resolution: 19.07341830460012
- Scale: 72088.5101276225
-
Level ID: 13
[ Start Tile, End Tile ]
- Resolution: 9.53670915230006
- Scale: 36044.25506381125
-
Level ID: 14
[ Start Tile, End Tile ]
- Resolution: 4.76835457615003
- Scale: 18022.127531905626
-
Level ID: 15
[ Start Tile, End Tile ]
- Resolution: 2.384177288075015
- Scale: 9011.063765952813
-
Level ID: 16
[ Start Tile, End Tile ]
- Resolution: 1.1920886440375076
- Scale: 4505.531882976406
-
Level ID: 17
[ Start Tile, End Tile ]
- Resolution: 0.5960443220187538
- Scale: 2252.765941488203
-
Level ID: 18
[ Start Tile, End Tile ]
- Resolution: 0.2980221610093769
- Scale: 1126.3829707441016
- Format: MIXED
- Compression Quality: 75.0
- Origin: X: -9499964.336082188
Y: 9999964.336082188
- Spatial Reference: 2600
(3346)
Storage Info:
- Storage Format: esriMapCacheStorageModeCompactV2
- Packet Size: 128
Initial Extent:
XMin: 311088.5050159203
YMin: 6147393.787203464
XMax: 368238.619316149
YMax: 6201964.208844307
Spatial Reference: 2600
(3346)
Full Extent:
XMin: 299960.0000054147
YMin: 5973779.999903221
XMax: 679614.4996869955
YMax: 6257831.000487763
Spatial Reference: 2600
(3346)
Units: esriMeters
Supported Image Format Types: PNG32,PNG24,PNG,JPG,DIB,TIFF,EMF,PS,PDF,GIF,SVG,SVGZ,BMP
Document Info:
Title: Servisai.aprx
Author:
Comments:
Subject:
Category:
Keywords:
AntialiasingMode: None
TextAntialiasingMode: Force
Supports Dynamic Layers: false
MaxRecordCount: 2000
MaxImageHeight: 4096
MaxImageWidth: 4096
Supported Query Formats: JSON, geoJSON, PBF
Supports Query Data Elements: true
Min Scale: 288354.04051049
Max Scale: 9011.063765952813
Min LOD: 10
Max LOD: 15
Supports Datum Transformation: true
Child Resources:
Info
Supported Operations:
Export Map
Identify
QueryLegends
QueryDomains
Find
EstimateExportTilesSize
ExportTiles
Return Updates