View In:
ArcGIS JavaScript
ArcGIS Online map viewer
Google Earth
ArcMap
ArcGIS Explorer
View Footprint In:
ArcGIS Online map viewer
Service Description: Lietuvos Respublikos teritorijos M 1:10 000 žemių melioracinės būklės ir užmirkimo erdvinių duomenų rinkinys. Be sutikimo publikuoti duomenis, naudoti servisą kitose aplikacijose draudžiama. Dėl serviso naudojimo kreiptis: info@gis-centras.lt. Servisą sukūrė: (GIS-Centras).
Map Name: Mel_DR10LT
Legend
All Layers and Tables
Layers:
Description:
Copyright Text: © Nacionalinė žemės tarnyba, © VĮ "GIS-Centras"
Spatial Reference:
2600
(3346)
Single Fused Map Cache: true
Tile Info:
- Height: 512
- Width: 512
- DPI: 96
-
Levels of Detail: 13
-
Level ID: 1
[ Start Tile, End Tile ]
- Resolution: 529.1677250021168
- Scale: 2000000.0000000002
-
Level ID: 2
[ Start Tile, End Tile ]
- Resolution: 264.5838625010584
- Scale: 1000000.0000000001
-
Level ID: 3
[ Start Tile, End Tile ]
- Resolution: 132.2919312505292
- Scale: 500000.00000000006
-
Level ID: 4
[ Start Tile, End Tile ]
- Resolution: 66.1459656252646
- Scale: 250000.00000000003
- Format: MIXED
- Compression Quality: 75.0
- Origin:
X: -5122000.0
Y: 1.00001E7
- Spatial Reference:
2600
(3346)
Initial Extent:
XMin: 92131.21998589038
YMin: 6037703.889318436
XMax: 896995.3297141099
YMax: 6275035.613981886
Spatial Reference:
2600
(3346)
Full Extent:
XMin: 316307.2181000002
YMin: 5977792.555400001
XMax: 680087.4100000001
YMax: 6256896.413799999
Spatial Reference:
2600
(3346)
Units: esriMeters
Supported Image Format Types: PNG32,PNG24,PNG,JPG,DIB,TIFF,EMF,PS,PDF,GIF,SVG,SVGZ,BMP
Document Info:
Title: Mel_DR10LT
Author: VŽF, NŽT
Comments: Lietuvos Respublikos teritorijos M 1:10 000 žemių melioracinės būklės ir užmirkimo erdvinių duomenų rinkinys. Be sutikimo publikuoti duomenis, naudoti servisą kitose aplikacijose draudžiama. Dėl serviso naudojimo kreiptis: info@gis-centras.lt.
Subject: LEI portalo vieša el. paslauga - Mel_DR10LT.
Category:
Keywords: LEI portalas,geoportal.lt,Mel_DR10LT,ŽIS
AntialiasingMode: None
TextAntialiasingMode: Force
Supports Dynamic Layers: false
Resampling: true
MaxRecordCount: 1000
MaxImageHeight: 4096
MaxImageWidth: 4096
Supported Query Formats: JSON, AMF
Min Scale: 5000000
Max Scale: 500
Child Resources:
Info
Supported Operations:
Export Map
Identify
Find
Return Updates