{
 "currentVersion": 10.81,
 "cimVersion": "2.6.0",
 "serviceDescription": "Topografinių duomenų žemėlapis kuris yra parengtas iš su TIIIS centrine duomenų baze sinchronizuotų SEDR specifikacijos duomenų. ",
 "mapName": "Topografiniai duomenys",
 "description": "",
 "copyrightText": "HNIT-BALTIC, UAB",
 "supportsDynamicLayers": true,
 "layers": [
  {
   "id": 0,
   "name": "Topografija",
   "parentLayerId": -1,
   "defaultVisibility": true,
   "subLayerIds": [
    2,
    4,
    6,
    8,
    10,
    12
   ],
   "minScale": 0,
   "maxScale": 0,
   "type": "Group Layer",
   "supportsDynamicLegends": false
  },
  {
   "id": 2,
   "name": "Aukščiai",
   "parentLayerId": 0,
   "defaultVisibility": false,
   "subLayerIds": null,
   "minScale": 201,
   "maxScale": 0,
   "type": "Feature Layer",
   "geometryType": "esriGeometryPoint",
   "supportsDynamicLegends": true
  },
  {
   "id": 4,
   "name": "Topografija (taškai)",
   "parentLayerId": 0,
   "defaultVisibility": true,
   "subLayerIds": null,
   "minScale": 1001,
   "maxScale": 999,
   "type": "Feature Layer",
   "geometryType": "esriGeometryPoint",
   "supportsDynamicLegends": true
  },
  {
   "id": 6,
   "name": "Topografija (linijos)",
   "parentLayerId": 0,
   "defaultVisibility": true,
   "subLayerIds": null,
   "minScale": 1001,
   "maxScale": 999,
   "type": "Feature Layer",
   "geometryType": "esriGeometryPolyline",
   "supportsDynamicLegends": true
  },
  {
   "id": 8,
   "name": "Ribos",
   "parentLayerId": 0,
   "defaultVisibility": true,
   "subLayerIds": null,
   "minScale": 24000,
   "maxScale": 999,
   "type": "Feature Layer",
   "geometryType": "esriGeometryPolyline",
   "supportsDynamicLegends": true
  },
  {
   "id": 10,
   "name": "Statiniai ",
   "parentLayerId": 0,
   "defaultVisibility": true,
   "subLayerIds": null,
   "minScale": 9999,
   "maxScale": 999,
   "type": "Feature Layer",
   "geometryType": "esriGeometryPolygon",
   "supportsDynamicLegends": true
  },
  {
   "id": 12,
   "name": "Plotai ",
   "parentLayerId": 0,
   "defaultVisibility": true,
   "subLayerIds": null,
   "minScale": 9999,
   "maxScale": 999,
   "type": "Feature Layer",
   "geometryType": "esriGeometryPolygon",
   "supportsDynamicLegends": true
  }
 ],
 "tables": [],
 "spatialReference": {
  "wkid": 2600,
  "latestWkid": 3346,
  "xyTolerance": 0.001,
  "zTolerance": 0.001,
  "mTolerance": 0.001,
  "falseX": -5122000,
  "falseY": -10000100,
  "xyUnits": 10000,
  "falseZ": -100000,
  "zUnits": 10000,
  "falseM": -100000,
  "mUnits": 10000
 },
 "singleFusedMapCache": true,
 "tileInfo": {
  "rows": 256,
  "cols": 256,
  "dpi": 96,
  "format": "PNG",
  "compressionQuality": 0,
  "origin": {
   "x": -5122000,
   "y": 10499982
  },
  "spatialReference": {
   "wkid": 2600,
   "latestWkid": 3346,
   "xyTolerance": 0.001,
   "zTolerance": 0.001,
   "mTolerance": 0.001,
   "falseX": -5122000,
   "falseY": -10000100,
   "xyUnits": 10000,
   "falseZ": -100000,
   "zUnits": 10000,
   "falseM": -100000,
   "mUnits": 10000
  },
  "lods": [
   {
    "level": 0,
    "resolution": 1.3229193125052918,
    "scale": 5000
   },
   {
    "level": 1,
    "resolution": 0.5291677250021167,
    "scale": 2000
   },
   {
    "level": 2,
    "resolution": 0.26458386250105836,
    "scale": 1000
   }
  ]
 },
 "initialExtent": {
  "xmin": 442517.56981889106,
  "ymin": 6116050.954023946,
  "xmax": 443150.8141439171,
  "ymax": 6116311.296630178,
  "spatialReference": {
   "wkid": 2600,
   "latestWkid": 3346,
   "xyTolerance": 0.001,
   "zTolerance": 0.001,
   "mTolerance": 0.001,
   "falseX": -5122000,
   "falseY": -10000100,
   "xyUnits": 10000,
   "falseZ": -100000,
   "zUnits": 10000,
   "falseM": -100000,
   "mUnits": 10000
  }
 },
 "fullExtent": {
  "xmin": 270503.3745040354,
  "ymin": 5953921.978739439,
  "xmax": 715545.5278836482,
  "ymax": 6314208.664001023,
  "spatialReference": {
   "wkid": 2600,
   "latestWkid": 3346,
   "xyTolerance": 0.001,
   "zTolerance": 0.001,
   "mTolerance": 0.001,
   "falseX": -5122000,
   "falseY": -10000100,
   "xyUnits": 10000,
   "falseZ": -100000,
   "zUnits": 10000,
   "falseM": -100000,
   "mUnits": 10000
  }
 },
 "minScale": 5001,
 "maxScale": 999,
 "units": "esriMeters",
 "supportedImageFormatTypes": "PNG32,PNG24,PNG,JPG,DIB,TIFF,EMF,PS,PDF,GIF,SVG,SVGZ,BMP",
 "documentInfo": {
  "Title": "Topografiniai duomenys",
  "Author": "",
  "Comments": "",
  "Subject": "",
  "Category": "",
  "AntialiasingMode": "None",
  "TextAntialiasingMode": "Force",
  "Keywords": "TIIIS,TI_EDR,Topo"
 },
 "supportsQueryDomains": true,
 "capabilities": "Map,Query",
 "supportedQueryFormats": "JSON, geoJSON, PBF",
 "exportTilesAllowed": false,
 "referenceScale": 0.0,
 "datumTransformations": [
  {
   "geoTransforms": [
    {
     "wkid": 8198,
     "latestWkid": 1283,
     "transformForward": false,
     "name": "LKS_1994_To_WGS_1984"
    }
   ]
  },
  {
   "geoTransforms": [
    {
     "wkid": 8198,
     "latestWkid": 1283,
     "transformForward": true,
     "name": "LKS_1994_To_WGS_1984"
    }
   ]
  }
 ],
 "supportsDatumTransformation": true,
 "archivingInfo": {
  "supportsHistoricMoment": false
 },
 "supportsClipping": true,
 "supportsSpatialFilter": true,
 "supportsQueryDataElements": true,
 "maxRecordCount": 2000,
 "maxImageHeight": 4096,
 "maxImageWidth": 4096,
 "supportedExtensions": "",
 "resampling": false,
 "serviceItemId": "0a9bd2d8ab1848049e97119b7efb4b11"
}
